{
 "currentVersion": 10.91,
 "serviceDescription": "Imagery/FallBrook",
 "name": "Imagery/FallBrook",
 "description": "",
 "extent": {
  "xmin": 2917948.5,
  "ymin": 308291.25,
  "xmax": 2926298.25,
  "ymax": 321570.5,
  "spatialReference": {
   "wkid": 26856,
   "latestWkid": 26856
  }
 },
 "initialExtent": {
  "xmin": 2917948.5,
  "ymin": 308291.25,
  "xmax": 2926298.25,
  "ymax": 321570.5,
  "spatialReference": {
   "wkid": 26856,
   "latestWkid": 26856
  }
 },
 "fullExtent": {
  "xmin": 2917948.5,
  "ymin": 308291.25,
  "xmax": 2926298.25,
  "ymax": 321570.5,
  "spatialReference": {
   "wkid": 26856,
   "latestWkid": 26856
  }
 },
 "hasMultidimensions": false,
 "pixelSizeX": 0.25,
 "pixelSizeY": 0.25,
 "datasetFormat": "FGDBR",
 "uncompressedSize": 5322164049,
 "blockWidth": 128,
 "blockHeight": 128,
 "compressionType": "LZ77",
 "bandNames": [
  "Band_1",
  "Band_2",
  "Band_3"
 ],
 "allowCopy": true,
 "allowAnalysis": true,
 "bandCount": 3,
 "pixelType": "U8",
 "minPixelSize": 0,
 "maxPixelSize": 0,
 "copyrightText": "",
 "serviceDataType": "esriImageServiceDataTypeProcessed",
 "serviceSourceType": "esriImageServiceSourceTypeDataset",
 "minValues": [
  0,
  0,
  0
 ],
 "maxValues": [
  255,
  255,
  255
 ],
 "meanValues": [
  125.03667615948241,
  117.00169822761346,
  94.99290044979205
 ],
 "stdvValues": [
  46.42172178327485,
  44.147206428648936,
  40.042694467677485
 ],
 "objectIdField": "",
 "fields": [],
 "capabilities": "Image,Metadata,Mensuration",
 "defaultMosaicMethod": "Center",
 "allowedMosaicMethods": "",
 "sortField": "",
 "sortValue": null,
 "sortAscending": true,
 "mosaicOperator": "First",
 "defaultCompressionQuality": 75,
 "defaultResamplingMethod": "Bilinear",
 "maxImageHeight": 4100,
 "maxImageWidth": 15000,
 "allowRasterFunction": true,
 "rasterFunctionInfos": [
  {
   "name": "None",
   "description": "",
   "help": ""
  }
 ],
 "rasterTypeInfos": [
  {
   "name": "Raster Dataset",
   "description": "Supports all ArcGIS Raster Datasets",
   "help": ""
  }
 ],
 "mensurationCapabilities": "Basic",
 "hasHistograms": true,
 "hasColormap": false,
 "hasRasterAttributeTable": false,
 "minScale": 0,
 "maxScale": 0,
 "exportTilesAllowed": false,
 "supportsStatistics": false,
 "supportsAdvancedQueries": false,
 "editFieldsInfo": null,
 "ownershipBasedAccessControlForRasters": null,
 "allowComputeTiePoints": false,
 "useStandardizedQueries": true,
 "advancedQueryCapabilities": {
  "useStandardizedQueries": true,
  "supportsStatistics": false,
  "supportsOrderBy": false,
  "supportsDistinct": false,
  "supportsPagination": false
 },
 "spatialReference": {
  "wkid": 26856,
  "latestWkid": 26856
 }
}
