{
 "currentVersion": 10.91,
 "serviceDescription": "Portland_Pictom_2018",
 "name": "Portland_Pictom_2018",
 "description": "",
 "extent": {
  "xmin": 2904003,
  "ymin": 289939,
  "xmax": 2975283,
  "ymax": 326899,
  "spatialReference": {
   "wkid": 26856,
   "latestWkid": 26856
  }
 },
 "initialExtent": {
  "xmin": 2904003,
  "ymin": 289939,
  "xmax": 2975283,
  "ymax": 326899,
  "spatialReference": {
   "wkid": 26856,
   "latestWkid": 26856
  }
 },
 "fullExtent": {
  "xmin": 2904003,
  "ymin": 289939,
  "xmax": 2975283,
  "ymax": 326899,
  "spatialReference": {
   "wkid": 26856,
   "latestWkid": 26856
  }
 },
 "hasMultidimensions": false,
 "pixelSizeX": 0.25,
 "pixelSizeY": 0.25,
 "datasetFormat": "FGDBR",
 "uncompressedSize": 126456422400,
 "blockWidth": 128,
 "blockHeight": 128,
 "compressionType": "LZ77",
 "bandNames": [
  "Band_1",
  "Band_2",
  "Band_3"
 ],
 "allowCopy": true,
 "allowAnalysis": true,
 "bandCount": 3,
 "pixelType": "U8",
 "minPixelSize": 0,
 "maxPixelSize": 0,
 "copyrightText": "",
 "serviceDataType": "esriImageServiceDataTypeRGB",
 "serviceSourceType": "esriImageServiceSourceTypeDataset",
 "minValues": [
  0,
  0,
  0
 ],
 "maxValues": [
  255,
  255,
  255
 ],
 "meanValues": [
  185.1030166363223,
  187.84350983867466,
  177.11512049013177
 ],
 "stdvValues": [
  79.6605652062142,
  74.37059537868937,
  84.62888936973977
 ],
 "objectIdField": "",
 "fields": [],
 "capabilities": "Image,Metadata,Mensuration",
 "defaultMosaicMethod": "Center",
 "allowedMosaicMethods": "",
 "sortField": "",
 "sortValue": null,
 "sortAscending": true,
 "mosaicOperator": "First",
 "defaultCompressionQuality": 75,
 "defaultResamplingMethod": "Bilinear",
 "maxImageHeight": 4100,
 "maxImageWidth": 15000,
 "allowRasterFunction": true,
 "rasterFunctionInfos": [
  {
   "name": "None",
   "description": "",
   "help": ""
  }
 ],
 "rasterTypeInfos": [
  {
   "name": "Raster Dataset",
   "description": "Supports all ArcGIS Raster Datasets",
   "help": ""
  }
 ],
 "mensurationCapabilities": "Basic",
 "hasHistograms": true,
 "hasColormap": false,
 "hasRasterAttributeTable": false,
 "minScale": 0,
 "maxScale": 0,
 "exportTilesAllowed": false,
 "supportsStatistics": false,
 "supportsAdvancedQueries": false,
 "editFieldsInfo": null,
 "ownershipBasedAccessControlForRasters": null,
 "allowComputeTiePoints": false,
 "useStandardizedQueries": true,
 "advancedQueryCapabilities": {
  "useStandardizedQueries": true,
  "supportsStatistics": false,
  "supportsOrderBy": false,
  "supportsDistinct": false,
  "supportsPagination": false
 },
 "spatialReference": {
  "wkid": 26856,
  "latestWkid": 26856
 }
}
